BEGIN:VCALENDAR
VERSION:2.0
CALSCALE:GREGORIAN
PRODID:-//Diputació de Barcelona//DibaCMS//EN
BEGIN:VEVENT
UID:1460
DTSTAMP:20260420T063540
DTSTART:20110716T213000
DTEND:20110716T000000
SUMMARY:Teatre: "Mots en joc"
LOCATION:
METHOD:PUBLISH
X-WR-CALNAME:ullastrell@ullastrell.cat
X-WR-TIMEZONE:Europe/Madrid
DESCRIPTION:Gags i altres accidentsDirecció: Xavi Montanyà i Pepa Montes
Intèrprets: Agnès Planas, Alba Gascón, Mar Puig, Gerard Boixadé i Oriol Aguilar.Lloc: Sala d'Actes del CasalOrganitzador: GATU Jove
URI:https://www.ullastrell.cat/actualitat/agenda/teatre-mots-en-joc.html
CLASS:PUBLIC
END:VEVENT
END:VCALENDAR
