BEGIN:VCALENDAR
VERSION:2.0
CALSCALE:GREGORIAN
PRODID:-//Diputació de Barcelona//DibaCMS//EN
BEGIN:VEVENT
UID:1461
DTSTAMP:20260420T063235
DTSTART:20110716T000000
DTEND:20110717T000000
SUMMARY:Sortida gegantera - 16/07/2011
LOCATION:
METHOD:PUBLISH
X-WR-CALNAME:ullastrell@ullastrell.cat
X-WR-TIMEZONE:Europe/Madrid
DESCRIPTION:Sortida gegantera de cap de setmana a Ribes de Fresser, amb motiu del 27è aniversari dels Gegants de Ribes.
 
 Lloc: Ribes de FresserOrganitzador: Geganters d'Ullastrell
URI:https://www.ullastrell.cat/actualitat/agenda/sortida-gegantera-16072011.html
CLASS:PUBLIC
END:VEVENT
END:VCALENDAR
