BEGIN:VCALENDAR
VERSION:2.0
CALSCALE:GREGORIAN
PRODID:-//Diputació de Barcelona//DibaCMS//EN
BEGIN:VEVENT
UID:1462
DTSTAMP:20260420T063135
DTSTART:20110720T000000
DTEND:20110720T000000
SUMMARY:Excursió a Cervera de la Gent Gran
LOCATION:
METHOD:PUBLISH
X-WR-CALNAME:ullastrell@ullastrell.cat
X-WR-TIMEZONE:Europe/Madrid
DESCRIPTION:La gent gran d'Ullastrell passarà el dia a Cervera on visitarà la Universitat, l'Església de Sant Jordi i dinar al restaurant Vergés de Cervera.
 



Lloc: CerveraOrganitzador: Colla de la Gent Gran
URI:https://www.ullastrell.cat/actualitat/agenda/excursio-a-cervera-de-la-gent-gran.html
CLASS:PUBLIC
END:VEVENT
END:VCALENDAR
