BEGIN:VCALENDAR
VERSION:2.0
CALSCALE:GREGORIAN
PRODID:-//Diputació de Barcelona//DibaCMS//EN
BEGIN:VEVENT
UID:1463
DTSTAMP:20260420T063421
DTSTART:20110730T000000
DTEND:20110730T000000
SUMMARY:Sortida gegantera - 30/07/2011
LOCATION:
METHOD:PUBLISH
X-WR-CALNAME:ullastrell@ullastrell.cat
X-WR-TIMEZONE:Europe/Madrid
DESCRIPTION:Sortida gegantera a Monistrol de Calders.
 
 Lloc: Monistrol de CaldersOrganitzador: Geganters d'Ullastrell
URI:https://www.ullastrell.cat/actualitat/agenda/sortida-gegantera-30072011.html
CLASS:PUBLIC
END:VEVENT
END:VCALENDAR
