BEGIN:VCALENDAR
VERSION:2.0
CALSCALE:GREGORIAN
PRODID:-//Diputació de Barcelona//DibaCMS//EN
BEGIN:VEVENT
UID:1464
DTSTAMP:20260420T081101
DTSTART:20110720T000000
DTEND:20110723T000000
SUMMARY:Escolta de ratpenats
LOCATION:
METHOD:PUBLISH
X-WR-CALNAME:ullastrell@ullastrell.cat
X-WR-TIMEZONE:Europe/Madrid
DESCRIPTION:El divendres 22 de juliol a les 21hores a la Pça.Serralavella, està previst fer una escolta de ratpenats.El divendres 22 de juliol de 2011 a les 21 hores a la Plaça Serralavella, està previst fer una escolta de ratpenats mitjançant una parell d'ultrasons.
L'activitat consistirà en:
-Què és un ratpenat, com es comunica, com s'orienta i com s'alimenta.
-Com funciona l'aparell d'ultrasons.
-Escolta conjunta de les especies que visiten Ullastrell.
Soparem un entrepà allà mateix entre preguntes i comentaris dels assistents.
IMPORTANT: En cas de pluja i/o fort vent, queda anulada l'activitat.Lloc: Plaça de SerralavellaOrganitzador: Ullastrell Natura
URI:https://www.ullastrell.cat/actualitat/agenda/escolta-de-ratpenats.html
CLASS:PUBLIC
END:VEVENT
END:VCALENDAR
