BEGIN:VCALENDAR
VERSION:2.0
CALSCALE:GREGORIAN
PRODID:-//Diputació de Barcelona//DibaCMS//EN
BEGIN:VEVENT
UID:1473
DTSTAMP:20260419T161522
DTSTART:20100417T090000
DTEND:20100417T000000
SUMMARY:Futbol sala infantil: Ceip Serralavella - IES J.V. Foix
LOCATION:
METHOD:PUBLISH
X-WR-CALNAME:ullastrell@ullastrell.cat
X-WR-TIMEZONE:Europe/Madrid
DESCRIPTION:Partit de futbol sala infantilPartit de futbol sala infantil, jocs esportius escolars 2ª Divisió B.
 Lloc: Pista poliesportivaOrganitzador: AGU
URI:https://www.ullastrell.cat/actualitat/agenda/futbol-sala-infantil-ceip-serralavella-ies-jv-foix.html
CLASS:PUBLIC
END:VEVENT
END:VCALENDAR
