BEGIN:VCALENDAR
VERSION:2.0
CALSCALE:GREGORIAN
PRODID:-//Diputació de Barcelona//DibaCMS//EN
BEGIN:VEVENT
UID:1474
DTSTAMP:20260419T150130
DTSTART:20100417T160000
DTEND:20100417T000000
SUMMARY:Futbol veterans: Santpedor - C.F. Ullastrell
LOCATION:
METHOD:PUBLISH
X-WR-CALNAME:ullastrell@ullastrell.cat
X-WR-TIMEZONE:Europe/Madrid
DESCRIPTION:Partit de futbol categoria veteransPartit de futbol, lliga de futbol veterans Grup B, 2009/2010.
 Lloc: SantpedorOrganitzador: C.F. Veterans
URI:https://www.ullastrell.cat/actualitat/agenda/futbol-veterans-santpedor-cf-ullastrell.html
CLASS:PUBLIC
END:VEVENT
END:VCALENDAR
