BEGIN:VCALENDAR
VERSION:2.0
CALSCALE:GREGORIAN
PRODID:-//Diputació de Barcelona//DibaCMS//EN
BEGIN:VEVENT
UID:1475
DTSTAMP:20260419T145837
DTSTART:20100424T110000
DTEND:20100424T000000
SUMMARY:Futbol sala cadets: Nastic Ullastrell - Palauenc C.F.
LOCATION:
METHOD:PUBLISH
X-WR-CALNAME:ullastrell@ullastrell.cat
X-WR-TIMEZONE:Europe/Madrid
DESCRIPTION:Partit de futbol sala cadetsPartit de futbol sala segona divisió cadets, campionat de lliga 2009/2010.
 Lloc: Pista poliesportivaOrganitzador: AGU
URI:https://www.ullastrell.cat/actualitat/agenda/futbol-sala-cadets-nastic-ullastrell-palauenc-cf.html
CLASS:PUBLIC
END:VEVENT
END:VCALENDAR
