BEGIN:VCALENDAR
VERSION:2.0
CALSCALE:GREGORIAN
PRODID:-//Diputació de Barcelona//DibaCMS//EN
BEGIN:VEVENT
UID:1476
DTSTAMP:20260419T145858
DTSTART:20100424T110000
DTEND:20100424T000000
SUMMARY:Futbol benjamí: Serralavella - Escola Avenç - 24/04/2010
LOCATION:
METHOD:PUBLISH
X-WR-CALNAME:ullastrell@ullastrell.cat
X-WR-TIMEZONE:Europe/Madrid
DESCRIPTION:Partit de futbol benjamíPartit de futbol benjamí, jocs esportius escolars 2009/2010.
 Lloc: Camp municipalOrganitzador: AGU
URI:https://www.ullastrell.cat/actualitat/agenda/futbol-benjami-serralavella-escola-avenc-24042010.html
CLASS:PUBLIC
END:VEVENT
END:VCALENDAR
