BEGIN:VCALENDAR
VERSION:2.0
CALSCALE:GREGORIAN
PRODID:-//Diputació de Barcelona//DibaCMS//EN
BEGIN:VEVENT
UID:1477
DTSTAMP:20260419T145739
DTSTART:20100424T120000
DTEND:20100424T000000
SUMMARY:Futbol alevins: Serralavella - Col. Pau Vila
LOCATION:
METHOD:PUBLISH
X-WR-CALNAME:ullastrell@ullastrell.cat
X-WR-TIMEZONE:Europe/Madrid
DESCRIPTION:Partit de futbol alevíPartit de futbol aleví, jocs esportius escolars 2009/2010, 1ª divisió.
 Lloc: Camp municipalOrganitzador: AGU
URI:https://www.ullastrell.cat/actualitat/agenda/futbol-alevins-serralavella-col-pau-vila.html
CLASS:PUBLIC
END:VEVENT
END:VCALENDAR
