BEGIN:VCALENDAR
VERSION:2.0
CALSCALE:GREGORIAN
PRODID:-//Diputació de Barcelona//DibaCMS//EN
BEGIN:VEVENT
UID:1478
DTSTAMP:20260419T150108
DTSTART:20100424T160000
DTEND:20100424T000000
SUMMARY:Futbol veterans: C.F. Ullastrell - Sant Joan
LOCATION:
METHOD:PUBLISH
X-WR-CALNAME:ullastrell@ullastrell.cat
X-WR-TIMEZONE:Europe/Madrid
DESCRIPTION:Partit de futbol veteransPartit de futbol lliga de veterans Grup B, 2009/2010.
 Lloc: Camp municipalOrganitzador: C.F. Veterans
URI:https://www.ullastrell.cat/actualitat/agenda/futbol-veterans-cf-ullastrell-sant-joan.html
CLASS:PUBLIC
END:VEVENT
END:VCALENDAR
