BEGIN:VCALENDAR
VERSION:2.0
CALSCALE:GREGORIAN
PRODID:-//Diputació de Barcelona//DibaCMS//EN
BEGIN:VEVENT
UID:1481
DTSTAMP:20260419T144817
DTSTART:20100515T110000
DTEND:20100515T000000
SUMMARY:Futbol sala cadets: Nastic Ullastrell - Axa Sant Cugat
LOCATION:
METHOD:PUBLISH
X-WR-CALNAME:ullastrell@ullastrell.cat
X-WR-TIMEZONE:Europe/Madrid
DESCRIPTION:Partit de futbol sala cadetsPartit de futbol sala segona divisió cadets campionat de lliga 2009/2010.
 Lloc: Pista PoliesportivaOrganitzador: AGU
URI:https://www.ullastrell.cat/actualitat/agenda/futbol-sala-cadets-nastic-ullastrell-axa-sant-cugat.html
CLASS:PUBLIC
END:VEVENT
END:VCALENDAR
