BEGIN:VCALENDAR
VERSION:2.0
CALSCALE:GREGORIAN
PRODID:-//Diputació de Barcelona//DibaCMS//EN
BEGIN:VEVENT
UID:1482
DTSTAMP:20260419T171113
DTSTART:20100515T120000
DTEND:20100515T000000
SUMMARY:Futbol alevins: Serralavella - Ceip La Roda
LOCATION:
METHOD:PUBLISH
X-WR-CALNAME:ullastrell@ullastrell.cat
X-WR-TIMEZONE:Europe/Madrid
DESCRIPTION:Futbol alevinsPartit de futbol aleví, jocs esportius escolars 2009/2010, 1ª divisió.
 Lloc: Camp municipalOrganitzador: AGU
URI:https://www.ullastrell.cat/actualitat/agenda/futbol-alevins-serralavella-ceip-la-roda.html
CLASS:PUBLIC
END:VEVENT
END:VCALENDAR
