BEGIN:VCALENDAR
VERSION:2.0
CALSCALE:GREGORIAN
PRODID:-//Diputació de Barcelona//DibaCMS//EN
BEGIN:VEVENT
UID:1487
DTSTAMP:20260419T214911
DTSTART:20101113T111500
DTEND:20101113T121500
SUMMARY:Futbol - Benjamí 2
LOCATION:
METHOD:PUBLISH
X-WR-CALNAME:ullastrell@ullastrell.cat
X-WR-TIMEZONE:Europe/Madrid
DESCRIPTION:Partit: Escola Serralavella - Pia de Terrassa
Benjamí2 - Masculí
 Lloc: Camp de Futbol MunicipalOrganitzador: A.G.U.
URI:https://www.ullastrell.cat/actualitat/agenda/futbol-benjami-2.html
CLASS:PUBLIC
END:VEVENT
END:VCALENDAR
