BEGIN:VCALENDAR
VERSION:2.0
CALSCALE:GREGORIAN
PRODID:-//Diputació de Barcelona//DibaCMS//EN
BEGIN:VEVENT
UID:1488
DTSTAMP:20260420T050750
DTSTART:20101113T123000
DTEND:20101113T133000
SUMMARY:Futbol Prebenjamí
LOCATION:
METHOD:PUBLISH
X-WR-CALNAME:ullastrell@ullastrell.cat
X-WR-TIMEZONE:Europe/Madrid
DESCRIPTION:Partit: Escola Serralavella - UFB Jabac i Terrassa
Prebenjamí Masculí
 Lloc: Camp de Futbol MunicipalOrganitzador: A.G.U.
URI:https://www.ullastrell.cat/actualitat/agenda/futbol-prebenjami.html
CLASS:PUBLIC
END:VEVENT
END:VCALENDAR
