BEGIN:VCALENDAR
VERSION:2.0
CALSCALE:GREGORIAN
PRODID:-//Diputació de Barcelona//DibaCMS//EN
BEGIN:VEVENT
UID:1490
DTSTAMP:20260419T202824
DTSTART:20101127T120000
DTEND:20101127T130000
SUMMARY:Futbol Sala - Cadet Masculí - 27/11/2010
LOCATION:
METHOD:PUBLISH
X-WR-CALNAME:ullastrell@ullastrell.cat
X-WR-TIMEZONE:Europe/Madrid
DESCRIPTION:Partit: Escola Serralavella - Dosa Salesians
Cadet Masculí
 Lloc: Pista Municipal d'UllastrellOrganitzador: A.G.U.
URI:https://www.ullastrell.cat/actualitat/agenda/futbol-sala-cadet-masculi-27112010.html
CLASS:PUBLIC
END:VEVENT
END:VCALENDAR
