BEGIN:VCALENDAR
VERSION:2.0
CALSCALE:GREGORIAN
PRODID:-//Diputació de Barcelona//DibaCMS//EN
BEGIN:VEVENT
UID:1491
DTSTAMP:20260419T215119
DTSTART:20101211T090000
DTEND:20101211T000000
SUMMARY:Futbol benjamí: Serralavella - Col. Sagrat Cor - 11/12/2010
LOCATION:
METHOD:PUBLISH
X-WR-CALNAME:ullastrell@ullastrell.cat
X-WR-TIMEZONE:Europe/Madrid
DESCRIPTION:Futbol benjamíPartit de futbol campionat escolar categoria benjamí.
 Lloc: Camp municipalOrganitzador: AGU
URI:https://www.ullastrell.cat/actualitat/agenda/futbol-benjami-serralavella-col-sagrat-cor-11122010.html
CLASS:PUBLIC
END:VEVENT
END:VCALENDAR
