BEGIN:VCALENDAR
VERSION:2.0
CALSCALE:GREGORIAN
PRODID:-//Diputació de Barcelona//DibaCMS//EN
BEGIN:VEVENT
UID:1492
DTSTAMP:20260420T033732
DTSTART:20101211T111500
DTEND:20101211T000000
SUMMARY:Futbol benjamí: Serralavella - Antoni Ubach
LOCATION:
METHOD:PUBLISH
X-WR-CALNAME:ullastrell@ullastrell.cat
X-WR-TIMEZONE:Europe/Madrid
DESCRIPTION:Futbol benjamíPartit de futbol categoria benjamí curs escolars 2010-2011.
 Lloc: Camp municipalOrganitzador: AGU
URI:https://www.ullastrell.cat/actualitat/agenda/futbol-benjami-serralavella-antoni-ubach.html
CLASS:PUBLIC
END:VEVENT
END:VCALENDAR
