BEGIN:VCALENDAR
VERSION:2.0
CALSCALE:GREGORIAN
PRODID:-//Diputació de Barcelona//DibaCMS//EN
BEGIN:VEVENT
UID:1493
DTSTAMP:20260419T214825
DTSTART:20101211T123000
DTEND:20101211T000000
SUMMARY:Futbol pre-benjamins: Serralavella - Junior FC
LOCATION:
METHOD:PUBLISH
X-WR-CALNAME:ullastrell@ullastrell.cat
X-WR-TIMEZONE:Europe/Madrid
DESCRIPTION:Futbol categoria pre-benjamíFutbol categoria pre-benjamí curs escolar 2010-2011.
 Lloc: Camp municipalOrganitzador: AGU
URI:https://www.ullastrell.cat/actualitat/agenda/futbol-pre-benjamins-serralavella-junior-fc.html
CLASS:PUBLIC
END:VEVENT
END:VCALENDAR
