BEGIN:VCALENDAR
VERSION:2.0
CALSCALE:GREGORIAN
PRODID:-//Diputació de Barcelona//DibaCMS//EN
BEGIN:VEVENT
UID:1494
DTSTAMP:20260420T050010
DTSTART:20101218T120000
DTEND:20101218T000000
SUMMARY:Futbol cadets: Serralavella - Institut l'Estatut
LOCATION:
METHOD:PUBLISH
X-WR-CALNAME:ullastrell@ullastrell.cat
X-WR-TIMEZONE:Europe/Madrid
DESCRIPTION:Partit de futbol sala cadets.
 
 Lloc: Pista poliesportivaOrganitzador: AGU
URI:https://www.ullastrell.cat/actualitat/agenda/futbol-cadets-serralavella-institut-lestatut.html
CLASS:PUBLIC
END:VEVENT
END:VCALENDAR
