BEGIN:VCALENDAR
VERSION:2.0
CALSCALE:GREGORIAN
PRODID:-//Diputació de Barcelona//DibaCMS//EN
BEGIN:VEVENT
UID:1495
DTSTAMP:20260419T232740
DTSTART:20101226T113000
DTEND:20101226T000000
SUMMARY:31a Cursa de Sant Esteve
LOCATION:
METHOD:PUBLISH
X-WR-CALNAME:ullastrell@ullastrell.cat
X-WR-TIMEZONE:Europe/Madrid
DESCRIPTION:10è Memorial Robert ColillesUn cop més, la Cursa de Sant Esteve no falla a la cita que esperen tots els atletes d'Ullastrell i rodalies.
 
Inscripcions: A partir de 2/4 d'11 en el camp de futbol.
Sortida: A 2/4 de 12 cursa popular oberta a totes les categories
Preu inscripcions: 5 euros
 
Categories:
Alevins: Fins a 11 anys.
Infantils: 12, 13 i 14 anys.
Juvenils: 15, 16 i 17 anys.
Seniors: De 18 a 34 anys.
Veterans: A partir de 35 anys.Lloc: Camp de Futbol MunicipalOrganitzador: Futbol Club Veterans
URI:https://www.ullastrell.cat/actualitat/agenda/31a-cursa-de-sant-esteve.html
CLASS:PUBLIC
END:VEVENT
END:VCALENDAR
