BEGIN:VCALENDAR
VERSION:2.0
CALSCALE:GREGORIAN
PRODID:-//Diputació de Barcelona//DibaCMS//EN
BEGIN:VEVENT
UID:1496
DTSTAMP:20260419T215034
DTSTART:20110115T090000
DTEND:20110115T000000
SUMMARY:Futbol benjamí 1: Serralavella - Escola Pia
LOCATION:
METHOD:PUBLISH
X-WR-CALNAME:ullastrell@ullastrell.cat
X-WR-TIMEZONE:Europe/Madrid
DESCRIPTION:Partit de futbol campionat escolar categoria benjamí.
 
 Lloc: Camp de Futbol MunicipalOrganitzador: AGU
URI:https://www.ullastrell.cat/actualitat/agenda/futbol-benjami-1-serralavella-escola-pia.html
CLASS:PUBLIC
END:VEVENT
END:VCALENDAR
