BEGIN:VCALENDAR
VERSION:2.0
CALSCALE:GREGORIAN
PRODID:-//Diputació de Barcelona//DibaCMS//EN
BEGIN:VEVENT
UID:1497
DTSTAMP:20260419T215156
DTSTART:20110115T123000
DTEND:20110115T000000
SUMMARY:Futbol prebenjamí: Serralavella - Club Cimal
LOCATION:
METHOD:PUBLISH
X-WR-CALNAME:ullastrell@ullastrell.cat
X-WR-TIMEZONE:Europe/Madrid
DESCRIPTION:Partit de futbol campionat escolar categoria prebenjamí.
 
 Lloc: Camp de Futbol MunicipalOrganitzador: AGU
URI:https://www.ullastrell.cat/actualitat/agenda/futbol-prebenjami-serralavella-club-cimal.html
CLASS:PUBLIC
END:VEVENT
END:VCALENDAR
