BEGIN:VCALENDAR
VERSION:2.0
CALSCALE:GREGORIAN
PRODID:-//Diputació de Barcelona//DibaCMS//EN
BEGIN:VEVENT
UID:1498
DTSTAMP:20260419T233145
DTSTART:20110115T120000
DTEND:20110115T000000
SUMMARY:Futbol cadets: Serralavella - Esportiu Ca n’Anglada
LOCATION:
METHOD:PUBLISH
X-WR-CALNAME:ullastrell@ullastrell.cat
X-WR-TIMEZONE:Europe/Madrid
DESCRIPTION:Partit de futbol campionat escolar categoria cadets.
 
 Lloc: Pista PoliesportivaOrganitzador: AGU
URI:https://www.ullastrell.cat/actualitat/agenda/futbol-cadets-serralavella-esportiu-ca-nanglada.html
CLASS:PUBLIC
END:VEVENT
END:VCALENDAR
