BEGIN:VCALENDAR
VERSION:2.0
CALSCALE:GREGORIAN
PRODID:-//Diputació de Barcelona//DibaCMS//EN
BEGIN:VEVENT
UID:1499
DTSTAMP:20260420T044925
DTSTART:20110129T120000
DTEND:20110129T000000
SUMMARY:Futbol Sala Cadets: Serralavella - La Serreta
LOCATION:
METHOD:PUBLISH
X-WR-CALNAME:ullastrell@ullastrell.cat
X-WR-TIMEZONE:Europe/Madrid
DESCRIPTION:Partit de futbol campionat escolar categoria cadets.
 
 Lloc: Pista PoliesportivaOrganitzador: AGU
URI:https://www.ullastrell.cat/actualitat/agenda/futbol-sala-cadets-serralavella-la-serreta.html
CLASS:PUBLIC
END:VEVENT
END:VCALENDAR
