BEGIN:VCALENDAR
VERSION:2.0
CALSCALE:GREGORIAN
PRODID:-//Diputació de Barcelona//DibaCMS//EN
BEGIN:VEVENT
UID:1500
DTSTAMP:20260420T021316
DTSTART:20110129T160000
DTEND:20110129T000000
SUMMARY:Futbol Veterans: Balsareny - C.F. Ullastrell
LOCATION:
METHOD:PUBLISH
X-WR-CALNAME:ullastrell@ullastrell.cat
X-WR-TIMEZONE:Europe/Madrid
DESCRIPTION:Partit de futbol lliga veterans 2010/2011.
 
 Lloc: BalsarenyOrganitzador: C.F. Veterans
URI:https://www.ullastrell.cat/actualitat/agenda/futbol-veterans-balsareny-cf-ullastrell.html
CLASS:PUBLIC
END:VEVENT
END:VCALENDAR
