BEGIN:VCALENDAR
VERSION:2.0
CALSCALE:GREGORIAN
PRODID:-//Diputació de Barcelona//DibaCMS//EN
BEGIN:VEVENT
UID:1501
DTSTAMP:20260420T011027
DTSTART:20110205T123000
DTEND:20110205T000000
SUMMARY:Futbol pre-benjamins: Serralavella - Viladecavalls - 05/02/2011
LOCATION:
METHOD:PUBLISH
X-WR-CALNAME:ullastrell@ullastrell.cat
X-WR-TIMEZONE:Europe/Madrid
DESCRIPTION:Partit de futbol del campionat escolar, categoria pre-benjamí.
 
 Lloc: Camp de Futbol MunicipalOrganitzador: AGU
URI:https://www.ullastrell.cat/actualitat/agenda/futbol-pre-benjamins-serralavella-viladecavalls-05022011.html
CLASS:PUBLIC
END:VEVENT
END:VCALENDAR
