BEGIN:VCALENDAR
VERSION:2.0
CALSCALE:GREGORIAN
PRODID:-//Diputació de Barcelona//DibaCMS//EN
BEGIN:VEVENT
UID:1502
DTSTAMP:20260420T050643
DTSTART:20110205T160000
DTEND:20110205T000000
SUMMARY:Futbol Veterans: C.F. Ullastrell - Pirinaica - 05/02/2011
LOCATION:
METHOD:PUBLISH
X-WR-CALNAME:ullastrell@ullastrell.cat
X-WR-TIMEZONE:Europe/Madrid
DESCRIPTION:Partit de futbol de la lliga de veterans 2010/2011.
 
 Lloc: Camp de Futbol MunicipalOrganitzador: Futbol Club Veterans
URI:https://www.ullastrell.cat/actualitat/agenda/futbol-veterans-cf-ullastrell-pirinaica-05022011.html
CLASS:PUBLIC
END:VEVENT
END:VCALENDAR
