BEGIN:VCALENDAR
VERSION:2.0
CALSCALE:GREGORIAN
PRODID:-//Diputació de Barcelona//DibaCMS//EN
BEGIN:VEVENT
UID:1503
DTSTAMP:20260419T232708
DTSTART:20110212T120000
DTEND:20110212T000000
SUMMARY:Futbol Sala Cadets: Serralavella - Ins. La Serreta
LOCATION:
METHOD:PUBLISH
X-WR-CALNAME:ullastrell@ullastrell.cat
X-WR-TIMEZONE:Europe/Madrid
DESCRIPTION:Partit de futbol del campionat escolar, categoria cadet.
 
 Lloc: Pista PoliesportivaOrganitzador: AGU
URI:https://www.ullastrell.cat/actualitat/agenda/futbol-sala-cadets-serralavella-ins-la-serreta.html
CLASS:PUBLIC
END:VEVENT
END:VCALENDAR
