BEGIN:VCALENDAR
VERSION:2.0
CALSCALE:GREGORIAN
PRODID:-//Diputació de Barcelona//DibaCMS//EN
BEGIN:VEVENT
UID:1505
DTSTAMP:20260420T005058
DTSTART:20110219T120000
DTEND:20110219T000000
SUMMARY:Futbol Sala Cadets: Serralavella - Ins. Duc de Montblanc
LOCATION:
METHOD:PUBLISH
X-WR-CALNAME:ullastrell@ullastrell.cat
X-WR-TIMEZONE:Europe/Madrid
DESCRIPTION:Partit de futbol del campionat escolar, categoria cadet.
 
 Lloc: Pista PoliesportivaOrganitzador: AGU
URI:https://www.ullastrell.cat/actualitat/agenda/futbol-sala-cadets-serralavella-ins-duc-de-montblanc.html
CLASS:PUBLIC
END:VEVENT
END:VCALENDAR
