BEGIN:VCALENDAR
VERSION:2.0
CALSCALE:GREGORIAN
PRODID:-//Diputació de Barcelona//DibaCMS//EN
BEGIN:VEVENT
UID:1506
DTSTAMP:20260420T022548
DTSTART:20110219T160000
DTEND:20110219T000000
SUMMARY:Futbol Veterans: P.I. Puig - C.F. Ullastrell - 19/02/2011
LOCATION:
METHOD:PUBLISH
X-WR-CALNAME:ullastrell@ullastrell.cat
X-WR-TIMEZONE:Europe/Madrid
DESCRIPTION:Partit de futbol de la lliga de veterans 2010/2011.
 
 Lloc: Camp FutbolOrganitzador: Futbol Club Veterans
URI:https://www.ullastrell.cat/actualitat/agenda/futbol-veterans-pi-puig-cf-ullastrell-19022011.html
CLASS:PUBLIC
END:VEVENT
END:VCALENDAR
