BEGIN:VCALENDAR
VERSION:2.0
CALSCALE:GREGORIAN
PRODID:-//Diputació de Barcelona//DibaCMS//EN
BEGIN:VEVENT
UID:1511
DTSTAMP:20260420T022323
DTSTART:20110409T123000
DTEND:20110409T000000
SUMMARY:Futbol pre-benjamins: Serralavella - San Lorenzo
LOCATION:
METHOD:PUBLISH
X-WR-CALNAME:ullastrell@ullastrell.cat
X-WR-TIMEZONE:Europe/Madrid
DESCRIPTION: 
Partit categoria pre benjamins jocs escolars 2010-2011.


 Lloc: Camp de FutbolOrganitzador: AGU
URI:https://www.ullastrell.cat/actualitat/agenda/futbol-pre-benjamins-serralavella-san-lorenzo.html
CLASS:PUBLIC
END:VEVENT
END:VCALENDAR
