BEGIN:VCALENDAR
VERSION:2.0
CALSCALE:GREGORIAN
PRODID:-//Diputació de Barcelona//DibaCMS//EN
BEGIN:VEVENT
UID:1512
DTSTAMP:20260420T040022
DTSTART:20110409T160000
DTEND:20110409T000000
SUMMARY:Futbol Veterans: C.F. Ullastrell - Monistrol
LOCATION:
METHOD:PUBLISH
X-WR-CALNAME:ullastrell@ullastrell.cat
X-WR-TIMEZONE:Europe/Madrid
DESCRIPTION:Partit de futbol lliga veterans 2010-2011.
 
 Lloc: Camp de Futbol MunicipalOrganitzador: C.F. Veterans
URI:https://www.ullastrell.cat/actualitat/agenda/1512-futbol-veterans-cf-ullastrell-monistrol.html
CLASS:PUBLIC
END:VEVENT
END:VCALENDAR
