BEGIN:VCALENDAR
VERSION:2.0
CALSCALE:GREGORIAN
PRODID:-//Diputació de Barcelona//DibaCMS//EN
BEGIN:VEVENT
UID:1513
DTSTAMP:20260420T045520
DTSTART:20110416T120000
DTEND:20110416T000000
SUMMARY:Futbol Sala Cadets: Nastic Ullastrell - Can Jofresa
LOCATION:
METHOD:PUBLISH
X-WR-CALNAME:ullastrell@ullastrell.cat
X-WR-TIMEZONE:Europe/Madrid
DESCRIPTION:Dins els jocs del Consell Esportiu del Vallès Occidental partit de futbol sala categoria cadets.
 
 Lloc: Pista PoliesportivaOrganitzador: AGU
URI:https://www.ullastrell.cat/actualitat/agenda/futbol-sala-cadets-nastic-ullastrell-can-jofresa.html
CLASS:PUBLIC
END:VEVENT
END:VCALENDAR
