BEGIN:VCALENDAR
VERSION:2.0
CALSCALE:GREGORIAN
PRODID:-//Diputació de Barcelona//DibaCMS//EN
BEGIN:VEVENT
UID:1514
DTSTAMP:20260419T150216
DTSTART:20100509T000000
DTEND:20100509T000000
SUMMARY:Desfilada de vehicles i motos antigues
LOCATION:
METHOD:PUBLISH
X-WR-CALNAME:ullastrell@ullastrell.cat
X-WR-TIMEZONE:Europe/Madrid
DESCRIPTION:La cercavila de cotxes i motos antigues es passejaran per Ullastrell.Una cercavila de cotxes i motos antigues, arribaran fins el nostre poble per fer una passejada pel nostre poble i aparcaran sota l'escola, per tal de que tothom pugui admirar aquestes joies de la carretera.
 
Acte programat dins la Fira Modernista de TerrassaLloc: Per tot el pobleOrganitzador: Ajuntament
URI:https://www.ullastrell.cat/actualitat/agenda/desfilada-de-vehicles-i-motos-antigues.html
CLASS:PUBLIC
END:VEVENT
END:VCALENDAR
