BEGIN:VCALENDAR
VERSION:2.0
CALSCALE:GREGORIAN
PRODID:-//Diputació de Barcelona//DibaCMS//EN
BEGIN:VEVENT
UID:1515
DTSTAMP:20260419T173424
DTSTART:20100701T220000
DTEND:20100701T000000
SUMMARY:Cinema a la fresca: A concretar - 01/07/2010
LOCATION:
METHOD:PUBLISH
X-WR-CALNAME:ullastrell@ullastrell.cat
X-WR-TIMEZONE:Europe/Madrid
DESCRIPTION:Cinema d'estiu  a la fresca.
 Lloc: Pista poliesportivaOrganitzador: OJU
URI:https://www.ullastrell.cat/actualitat/agenda/cinema-a-la-fresca-a-concretar-01072010.html
CLASS:PUBLIC
END:VEVENT
END:VCALENDAR
