BEGIN:VCALENDAR
VERSION:2.0
CALSCALE:GREGORIAN
PRODID:-//Diputació de Barcelona//DibaCMS//EN
BEGIN:VEVENT
UID:1518
DTSTAMP:20260419T221241
DTSTART:20100731T200000
DTEND:20100731T235500
SUMMARY:Karaoke en català
LOCATION:
METHOD:PUBLISH
X-WR-CALNAME:ullastrell@ullastrell.cat
X-WR-TIMEZONE:Europe/Madrid
DESCRIPTION:Karaoke en català per fomentar la nostra llengua.Lloc: Piscina MunicipalOrganitzador: Centre Normalització Lingüística
URI:https://www.ullastrell.cat/actualitat/agenda/karaoke-en-catala.html
CLASS:PUBLIC
END:VEVENT
END:VCALENDAR
