BEGIN:VCALENDAR
VERSION:2.0
CALSCALE:GREGORIAN
PRODID:-//Diputació de Barcelona//DibaCMS//EN
BEGIN:VEVENT
UID:1519
DTSTAMP:20260419T190946
DTSTART:20100813T000000
DTEND:20100816T000000
SUMMARY:Festa Major - 13/08/2010
LOCATION:
METHOD:PUBLISH
X-WR-CALNAME:ullastrell@ullastrell.cat
X-WR-TIMEZONE:Europe/Madrid
DESCRIPTION:Festa Major 2010Del 13 al 16 d'agost FESTA MAJOR.
Veure programa d'actesLloc: Pista poliesportiva i Sala Actes CasalOrganitzador: Comissió de Festes
URI:https://www.ullastrell.cat/actualitat/agenda/festa-major-13082010.html
CLASS:PUBLIC
END:VEVENT
END:VCALENDAR
