BEGIN:VCALENDAR
VERSION:2.0
CALSCALE:GREGORIAN
PRODID:-//Diputació de Barcelona//DibaCMS//EN
BEGIN:VEVENT
UID:1520
DTSTAMP:20260419T233738
DTSTART:20100918T090000
DTEND:20100918T203000
SUMMARY:Sortida fi d'estiu
LOCATION:
METHOD:PUBLISH
X-WR-CALNAME:ullastrell@ullastrell.cat
X-WR-TIMEZONE:Europe/Madrid
DESCRIPTION:Sortida per a joves, de fi d'estiu a Port Aventura.
 Lloc: Port AventuraOrganitzador: Ajuntament
URI:https://www.ullastrell.cat/actualitat/agenda/sortida-fi-destiu.html
CLASS:PUBLIC
END:VEVENT
END:VCALENDAR
