BEGIN:VCALENDAR
VERSION:2.0
CALSCALE:GREGORIAN
PRODID:-//Diputació de Barcelona//DibaCMS//EN
BEGIN:VEVENT
UID:1524
DTSTAMP:20260419T202651
DTSTART:20101114T190000
DTEND:20101114T210000
SUMMARY:Cinema Infantil: "Shrek - Felices para siempre"
LOCATION:
METHOD:PUBLISH
X-WR-CALNAME:ullastrell@ullastrell.cat
X-WR-TIMEZONE:Europe/Madrid
DESCRIPTION:Cinema infantil .
 Lloc: Sala d'Actes del CasalOrganitzador: Patronat
URI:https://www.ullastrell.cat/actualitat/agenda/cinema-infantil-shrek-felices-para-siempre.html
CLASS:PUBLIC
END:VEVENT
END:VCALENDAR
