BEGIN:VCALENDAR
VERSION:2.0
CALSCALE:GREGORIAN
PRODID:-//Diputació de Barcelona//DibaCMS//EN
BEGIN:VEVENT
UID:1525
DTSTAMP:20260420T033754
DTSTART:20101128T190000
DTEND:20101128T210000
SUMMARY:Cinema al Casal "Buenas noches y buena suerte"
LOCATION:
METHOD:PUBLISH
X-WR-CALNAME:ullastrell@ullastrell.cat
X-WR-TIMEZONE:Europe/Madrid
DESCRIPTION:"Buena noches, y buena suerte", esdevé durant els primers temps del periodisme televisiu  en EUA en la dècada dels 50. És la crónica de l'autèntic enfrontament entre Edward R. Murrow (David Strathairn), presentador de les notícies, i el senador Joseph McCarthy i el Comitè d'activitats Antiamericanes. BASADA EN UNA HISTÒRIA REAL.
6 Nominacions als oscars.
A partir de 13 anys. Lloc: Sala d'actes del CasalOrganitzador: Patronat
URI:https://www.ullastrell.cat/actualitat/agenda/cinema-al-casal-buenas-noches-y-buena-suerte.html
CLASS:PUBLIC
END:VEVENT
END:VCALENDAR
