BEGIN:VCALENDAR
VERSION:2.0
CALSCALE:GREGORIAN
PRODID:-//Diputació de Barcelona//DibaCMS//EN
BEGIN:VEVENT
UID:1526
DTSTAMP:20260419T202746
DTSTART:20101125T000000
DTEND:20101125T000000
SUMMARY:Excursió amb la gent gran
LOCATION:
METHOD:PUBLISH
X-WR-CALNAME:ullastrell@ullastrell.cat
X-WR-TIMEZONE:Europe/Madrid
DESCRIPTION:Els més veterans del poble visiten Montserrat i faran un bon àpat al poble de Josep Guardiola, Santpedor.
 
 
 
 
 
 
 
 Lloc: Montserrat i Santpedor Organitzador: Colla de la Gent Gran
URI:https://www.ullastrell.cat/actualitat/agenda/excursio-amb-la-gent-gran.html
CLASS:PUBLIC
END:VEVENT
END:VCALENDAR
