BEGIN:VCALENDAR
VERSION:2.0
CALSCALE:GREGORIAN
PRODID:-//Diputació de Barcelona//DibaCMS//EN
BEGIN:VEVENT
UID:1527
DTSTAMP:20260420T045632
DTSTART:20101205T190000
DTEND:20101205T000000
SUMMARY:Cinema: Pa negre
LOCATION:
METHOD:PUBLISH
X-WR-CALNAME:ullastrell@ullastrell.cat
X-WR-TIMEZONE:Europe/Madrid
DESCRIPTION:Cinema / Any: 2010 / Duració: 108 min. / Director: Agustí Villaronga / En català.Drama, vida rural / SINÒPSIS: En els durs anys de la postguerra rural a Catalunya, Andreu, un nen que pertany al bàndol dels perdedors, troba en el bosc els cadàvers d'un home i el seu fill. Les autoritats volen carregar les morts al seu pare, però ell, per ajudar-lo, intenta esbrinar qui són els autèntics responsables. En aquest recorregut, Andreu desenvolupa una consciència moral enfront d'un món d'adults alimentat per les mentides.







Lloc: Sala Actes CasalOrganitzador: Patronat
URI:https://www.ullastrell.cat/actualitat/agenda/cinema-pa-negre.html
CLASS:PUBLIC
END:VEVENT
END:VCALENDAR
