BEGIN:VCALENDAR
VERSION:2.0
CALSCALE:GREGORIAN
PRODID:-//Diputació de Barcelona//DibaCMS//EN
BEGIN:VEVENT
UID:1529
DTSTAMP:20260419T215011
DTSTART:20101219T180000
DTEND:20101219T000000
SUMMARY:Cinema Infantil: Ga'Hoole: La leyenda de los guardianes
LOCATION:
METHOD:PUBLISH
X-WR-CALNAME:ullastrell@ullastrell.cat
X-WR-TIMEZONE:Europe/Madrid
DESCRIPTION:Cinema / Any: 2010 / Duració: 90 min. / Director: Zack SnyderAnimació. Fantàstic. Aventures / SINÒPSIS: Narra la història de l'heroica lluita d'un jove mussol, Soren, per salvar a la seva comunitat de les forces del Mal. Soren viu al bosc Tyto, on sempre hi havia regnat la pau entre les òlibes. Ara l'ombra del mal plana sobre el regne dels mussols, amenaçant amb destruir la pau i canviar la vida de Soren per sempre. Per evitar-ho buscarà al Gran Arbre Ga'Hoole. Quan Soren i els seus amics arriben per fi al Gran Arbre Ga'Hoole s'hauran de sotmetre a proves que mai havien somiat i afrontar reptes que mai havien imaginat. (FilmAffinity)Lloc: Sala Actes CasalOrganitzador: Patronat
URI:https://www.ullastrell.cat/actualitat/agenda/cinema-infantil-gahoole-la-leyenda-de-los-guardianes.html
CLASS:PUBLIC
END:VEVENT
END:VCALENDAR
