BEGIN:VCALENDAR
VERSION:2.0
CALSCALE:GREGORIAN
PRODID:-//Diputació de Barcelona//DibaCMS//EN
BEGIN:VEVENT
UID:1530
DTSTAMP:20260420T033353
DTSTART:20110116T190000
DTEND:20110116T000000
SUMMARY:Cinema: A concretar - 16/01/2011
LOCATION:
METHOD:PUBLISH
X-WR-CALNAME:ullastrell@ullastrell.cat
X-WR-TIMEZONE:Europe/Madrid
DESCRIPTION:Cinema a concretar.
 
 Lloc: Sala Actes del CasalOrganitzador: Patronat
URI:https://www.ullastrell.cat/actualitat/agenda/cinema-a-concretar-16012011.html
CLASS:PUBLIC
END:VEVENT
END:VCALENDAR
