BEGIN:VCALENDAR
VERSION:2.0
CALSCALE:GREGORIAN
PRODID:-//Diputació de Barcelona//DibaCMS//EN
BEGIN:VEVENT
UID:1531
DTSTAMP:20260419T232847
DTSTART:20110123T180000
DTEND:20110123T000000
SUMMARY:Cinema infantil: "Gru, mi villano favorito"
LOCATION:
METHOD:PUBLISH
X-WR-CALNAME:ullastrell@ullastrell.cat
X-WR-TIMEZONE:Europe/Madrid
DESCRIPTION:Cinema / Any: 2010 / Duració: 95 min. / Director: Pierre Coffin, Chris Renaud, Sergio Pablos.Animació. Comèdia. Ciència ficció. Infantil / SINÒPSIS: Gru (veu de Steve Carell) és un home deplorable que planeja l'acte criminal més increïble de la història: robar la Lluna. Incitat per una mare malvada (veu de Julie Andrews), Gru només trobarà un obstacle en el seu camí: tres nenes òrfenes a les quals tindrà de cuidar temporalment. (FilmAffinity).Lloc: Sala Actes del CasalOrganitzador: Patronat
URI:https://www.ullastrell.cat/actualitat/agenda/cinema-infantil-gru-mi-villano-favorito.html
CLASS:PUBLIC
END:VEVENT
END:VCALENDAR
