BEGIN:VCALENDAR
VERSION:2.0
CALSCALE:GREGORIAN
PRODID:-//Diputació de Barcelona//DibaCMS//EN
BEGIN:VEVENT
UID:1532
DTSTAMP:20260420T045532
DTSTART:20110127T180000
DTEND:20110127T000000
SUMMARY:L'hora del conte: Ferran Martín
LOCATION:
METHOD:PUBLISH
X-WR-CALNAME:ullastrell@ullastrell.cat
X-WR-TIMEZONE:Europe/Madrid
DESCRIPTION:Ferran Martín ens explicarà contes d'hivern.Vols viatjar a móns fantàstics on s’amaguen històries per les cantonades? Vols volar pels racons més freds del planeta sense refredar-te? Vols sentir les històries que ens porta l’hivern des de les fredes terres del nord?Lloc: Biblioteca Josep MassaguéOrganitzador: Biblioteca Josep Massagué
URI:https://www.ullastrell.cat/actualitat/agenda/lhora-del-conte-ferran-martin.html
CLASS:PUBLIC
END:VEVENT
END:VCALENDAR
