BEGIN:VCALENDAR
VERSION:2.0
CALSCALE:GREGORIAN
PRODID:-//Diputació de Barcelona//DibaCMS//EN
BEGIN:VEVENT
UID:1534
DTSTAMP:20260420T022341
DTSTART:20110213T180000
DTEND:20110213T000000
SUMMARY:Cinema Infantil: A concretar - 13/02/2011
LOCATION:
METHOD:PUBLISH
X-WR-CALNAME:ullastrell@ullastrell.cat
X-WR-TIMEZONE:Europe/Madrid
DESCRIPTION:Programa Infantil
 
 Lloc: Sala d'actes del Casal CulturalOrganitzador: Patronat
URI:https://www.ullastrell.cat/actualitat/agenda/cinema-infantil-a-concretar-13022011.html
CLASS:PUBLIC
END:VEVENT
END:VCALENDAR
