BEGIN:VCALENDAR
VERSION:2.0
CALSCALE:GREGORIAN
PRODID:-//Diputació de Barcelona//DibaCMS//EN
BEGIN:VEVENT
UID:1545
DTSTAMP:20260420T044548
DTSTART:20110428T180000
DTEND:20110428T000000
SUMMARY:Hora del conte: "Albert Estengre"
LOCATION:
METHOD:PUBLISH
X-WR-CALNAME:ullastrell@ullastrell.cat
X-WR-TIMEZONE:Europe/Madrid
DESCRIPTION:El conte contes Albert Estengre farà passar una bona estona els infants amb les seves històries plenes d'humor i riures.Lloc: Biblioteca J. MassaguéOrganitzador: Biblioteca J. Massagué
URI:https://www.ullastrell.cat/actualitat/agenda/hora-del-conte-albert-estengre.html
CLASS:PUBLIC
END:VEVENT
END:VCALENDAR
