BEGIN:VCALENDAR
VERSION:2.0
CALSCALE:GREGORIAN
PRODID:-//Diputació de Barcelona//DibaCMS//EN
BEGIN:VEVENT
UID:1549
DTSTAMP:20260420T063651
DTSTART:20110710T000000
DTEND:20110710T000000
SUMMARY:Sortida de Caramelles
LOCATION:
METHOD:PUBLISH
X-WR-CALNAME:ullastrell@ullastrell.cat
X-WR-TIMEZONE:Europe/Madrid
DESCRIPTION:El Parc aquàtic Marineland de Palafolls rebrà aquest diumenge tots els cantaires, nens i nenes, pares i mares, de la passada edició de Caramelles com a resultat dels guanys adquirits.Lloc: PalafollsOrganitzador: Comissió Caramelles
URI:https://www.ullastrell.cat/actualitat/agenda/sortida-de-caramelles.html
CLASS:PUBLIC
END:VEVENT
END:VCALENDAR
